BEGIN:VCALENDAR
VERSION:2.0
PRODID:-//Eventin//Event Calendar//EN
CALSCALE:GREGORIAN
METHOD:PUBLISH
BEGIN:VEVENT
UID:d5a5560ee03693d92d4d6f6fcd556030@saveetha.ac.in
SUMMARY:SEC extended a warm welcome to the HR Team of Kotak Life
DESCRIPTION:We are extending a heartfelt welcome to the HR Team of Kotak Li
 fe for the campus hiring of the MBA - 2024 Batch. Wishing all aspiring lear
 ners the best of luck!
LOCATION:Online
DTSTAMP:20260420T124930Z
DTSTART:20240110T183000Z
DTEND:20260420T124930Z
END:VEVENT
END:VCALENDAR
