BEGIN:VCALENDAR
VERSION:2.0
PRODID:-//Eventin//Event Calendar//EN
CALSCALE:GREGORIAN
METHOD:PUBLISH
BEGIN:VEVENT
UID:1c2674613765f7eb0a82d581d415d1fa@saveetha.ac.in
SUMMARY:Hearty welcome to the HR Team of 'Survey Sparrow'.
DESCRIPTION:A warm welcome to the HR Team of 'Survey Sparrow' for an exclus
 ive campus hiring event targeting the bright minds of the 2024 Batch. Best 
 of luck to all aspiring candidates.
LOCATION:Online
DTSTAMP:20260420T125355Z
DTSTART:20240119T183000Z
DTEND:20260420T125355Z
END:VEVENT
END:VCALENDAR
