BEGIN:VCALENDAR
VERSION:2.0
PRODID:-//Eventin//Event Calendar//EN
CALSCALE:GREGORIAN
METHOD:PUBLISH
BEGIN:VEVENT
UID:b1f10fd96153f4000a8288c48a580cb9@saveetha.ac.in
SUMMARY:45 learners from 2024 Batch secured placements at 'Devtown'
DESCRIPTION:Kudos to our 45 learners from 2024 Batch on securing placements
  at 'Devtown'! Wishing you all enduring success and endless growth.
LOCATION:Online
DTSTAMP:20260420T090219Z
DTSTART:20260419T183000Z
DTEND:20260419T183000Z
END:VEVENT
END:VCALENDAR
