BEGIN:VCALENDAR
VERSION:2.0
PRODID:-//Eventin//Event Calendar//EN
CALSCALE:GREGORIAN
METHOD:PUBLISH
BEGIN:VEVENT
UID:caf5d1d9df4522ced264336f60cc2569@saveetha.ac.in
SUMMARY:75th Republic Day was celebrated with pride and enthusiasm!
DESCRIPTION:Previous slide\n														Next slide\n		75th Republic Day w
 as celebrated at SEC - Saveetha Engineering College (Autonomous) with pride
  and enthusiasm! Dr. N.M. Veeriayan\, Chancellor - SIMATS\, hoisted the our
  national flag. This vibrant ceremony was filled with cultural performances
  by students and inspiring speeches of the dignitaries that showcased the s
 pirit of unity of our nation. Let's honour our nation's rich heritage and p
 rogress together towards a brighter future.
LOCATION:Online
DTSTAMP:20260420T125814Z
DTSTART:20240125T183000Z
DTEND:20260420T125814Z
END:VEVENT
END:VCALENDAR
