BEGIN:VCALENDAR
VERSION:2.0
PRODID:-//Eventin//Event Calendar//EN
CALSCALE:GREGORIAN
METHOD:PUBLISH
BEGIN:VEVENT
UID:611af5b1779d6490449ad051c00123a8@saveetha.ac.in
SUMMARY:Faculty Development Program on 'AR & VR Fundamentals Using Unity'
DESCRIPTION:A hearty welcome to you to join our Faculty Development Program
  on 'AR & VR Fundamentals Using Unity' at SEC - Saveetha Engineering Colleg
 e (Autonomous). Don't miss out this golden opportunity to stay at the foref
 ront of technological advancements.:❇️ Date: Jan. 29th to Feb. 2nd\, 20
 24❇️ Email us for more details: contact@ictacademy.in❇️ Call us: +
 91 9500046742
LOCATION:Online
DTSTAMP:20260420T130013Z
DTSTART:20240128T183000Z
DTEND:20260420T130013Z
END:VEVENT
END:VCALENDAR
