BEGIN:VCALENDAR
VERSION:2.0
PRODID:-//Eventin//Event Calendar//EN
CALSCALE:GREGORIAN
METHOD:PUBLISH
BEGIN:VEVENT
UID:2efb2f4a21cfbf34c0f1e8f00b6bcc14@saveetha.ac.in
SUMMARY:International Student Workshop was conducted on "Energy Conservatio
 n Towards Low Carbon Campus"
DESCRIPTION:Previous slide\n														Next slide\n		We are happy to con
 duct an International Student Workshop on "Energy Conservation Towards Low 
 Carbon Campus". Guest Lecturer IR. TS. Dr. Nagentrau\, a Certified Energy M
 anager at Taylor's University raised awareness among students about the imp
 ortance of energy conservation.:The Objective of the seminar:~ To explore p
 ractical strategies for achieving a low carbon footprint on campus.~ To emp
 ower students to become advocates for sustainable practices.:The Outcome of
  the seminar:~ Identification of potential areas for energy optimization an
 d carbon footprint reduction within the campus.~ Empowerment of students to
  initiate and participate in sustainable initiatives\, contributing to a gr
 eener campus environment.:Dr. Nagentrau shared valuable insights and experi
 ences in the field of energy conservation. Students actively participated i
 n discussions\, group activities\, and brainstorming sessions.
LOCATION:Online
DTSTAMP:20260420T113740Z
DTSTART:20240211T183000Z
DTEND:20260420T113740Z
END:VEVENT
END:VCALENDAR
