BEGIN:VCALENDAR
VERSION:2.0
PRODID:-//Eventin//Event Calendar//EN
CALSCALE:GREGORIAN
METHOD:PUBLISH
BEGIN:VEVENT
UID:f689c25b6c961a7556e0d74210b8bfa6@saveetha.ac.in
SUMMARY:A warm welcome to the HR Team of 'Walmart' for the Campus Hiring
DESCRIPTION:A warm welcome to the HR Team of 'Walmart' for the Campus Hirin
 g of the UG 2024-25 Batches. Best wishes to all our aspiring Female Coders!
LOCATION:Online
DTSTAMP:20260420T113826Z
DTSTART:20240216T183000Z
DTEND:20260420T113826Z
END:VEVENT
END:VCALENDAR
