BEGIN:VCALENDAR
VERSION:2.0
PRODID:-//Eventin//Event Calendar//EN
CALSCALE:GREGORIAN
METHOD:PUBLISH
BEGIN:VEVENT
UID:319b1ddb4991a9730a79dd2bfeafcd2d@saveetha.ac.in
SUMMARY:SEC conducted an exclusive career guidance session for CSI Corley H
 igher Secondary School
DESCRIPTION:Previous slide\n														Next slide\n		In an empowering se
 ssion\, over 600 students from CSI Corley Higher Secondary School in East T
 ambaram\, Chennai were privileged to attend a career guidance session by th
 e renowned education veteran Mr. Jayaprakash Gandhi titled Navigating Your 
 Future Unleashing Potential In The Path to Career Success on Feb 22nd 2024.
 Students from grades X\, XI & XII gained valuable insights into goal achiev
 ement\, higher education planning\, and skill development. Gratitude to Sav
 eetha Engineering College and CSI Corley Hr. Sec. School's Management & Sta
 ff for steering this crucial session\, paving the way for a triumphant futu
 re. 
LOCATION:Online
DTSTAMP:20260420T090248Z
DTSTART:20240221T183000Z
DTEND:20260420T090248Z
END:VEVENT
END:VCALENDAR
