BEGIN:VCALENDAR
VERSION:2.0
PRODID:-//Eventin//Event Calendar//EN
CALSCALE:GREGORIAN
METHOD:PUBLISH
BEGIN:VEVENT
UID:805105e8cb84cba2b1873148a13e26e9@saveetha.ac.in
SUMMARY:IT - II and III year learners secured II Place in the 'National Sem
 inar On Sustainability in Information Technology & Poster Presentation'
DESCRIPTION:Previous slide\n														Next slide\n		Congratulations to 
 Information Technology II and III year learners for securing II Place in th
 e 'National Seminar On Sustainability in Information Technology & Poster Pr
 esentation'. Their project\, 'Navigation and E-Waste Redemption' under Sust
 ainable Goal 9\, impressed at MIT\, Anna University.Best wishes to these br
 ight minds as they continue to innovate and contribute towards a sustainabl
 e future.:List of award-winning learners:~ Manoj MV - II year IT~ Dinesh Ku
 maraa K - II year IT~ Vasanthan SR - III year IT
LOCATION:Online
DTSTAMP:20260420T101619Z
DTSTART:20240222T183000Z
DTEND:20260420T101619Z
END:VEVENT
END:VCALENDAR
