BEGIN:VCALENDAR
VERSION:2.0
PRODID:-//Eventin//Event Calendar//EN
CALSCALE:GREGORIAN
METHOD:PUBLISH
BEGIN:VEVENT
UID:b8460fb11b6682c147e0b8c90cca6dc8@saveetha.ac.in
SUMMARY:Hearty welcome to the HR Team of "Rapid Data"
DESCRIPTION:We are extending a warm welcome to the HR Team of "Rapid Data" 
 for the campus hiring of the 2024 Batch. Wishing all aspiring learners the 
 best of luck!
LOCATION:Online
DTSTAMP:20260420T102138Z
DTSTART:20240226T183000Z
DTEND:20260420T102138Z
END:VEVENT
END:VCALENDAR
