BEGIN:VCALENDAR
VERSION:2.0
PRODID:-//Eventin//Event Calendar//EN
CALSCALE:GREGORIAN
METHOD:PUBLISH
BEGIN:VEVENT
UID:e202e407103773eedc10ad2e397b6275@saveetha.ac.in
SUMMARY:Faculty Development Program on 'AR & VR Fundamentals Using Unity'
DESCRIPTION:SEC - Saveetha Engineering College (Autonomous). Don't miss out
  this golden opportunity to stay at the forefront of technological advancem
 ents.\n:\n~ Date: Jan. 29th to Feb. 2nd\, 2024\n~ Email us for more details
 : contact@ictacademy.in
LOCATION:Online
DTSTAMP:20260420T104104Z
DTSTART:20240228T183000Z
DTEND:20260420T104104Z
END:VEVENT
END:VCALENDAR
