BEGIN:VCALENDAR
VERSION:2.0
PRODID:-//Eventin//Event Calendar//EN
CALSCALE:GREGORIAN
METHOD:PUBLISH
BEGIN:VEVENT
UID:8d139f8096021a231d408394b8fc28d3@saveetha.ac.in
SUMMARY:SEC won the Ashok Leyland Grand Challenge 2024
DESCRIPTION:We are delighted to announce that Santhosh U\, Navin Kumar J an
 d Sri Karthikeyan Ganapathy of AI&ML - II year won the Ashok Leyland Grand 
 Challenge in State Level and received ₹ 50\,000 cash award. They submitte
 d the project on the AI-driven energy management system that optimizes elec
 tric vehicle performance for extended driving range\, reduced operating cos
 ts\, improved charging efficiency\, and enhanced environmental sustainabili
 ty.\nMay their journey ahead be filled with endless possibilities and bound
 less success.
LOCATION:Online
DTSTAMP:20260420T090329Z
DTSTART:20240229T183000Z
DTEND:20260420T090329Z
END:VEVENT
END:VCALENDAR
