BEGIN:VCALENDAR
VERSION:2.0
PRODID:-//Eventin//Event Calendar//EN
CALSCALE:GREGORIAN
METHOD:PUBLISH
BEGIN:VEVENT
UID:6e8d4d68979b6ac96fada07c6dae8836@saveetha.ac.in
SUMMARY:Padam Rabta
DESCRIPTION:Padam Rabta at Celanza 2024 was a thrilling experience where le
 arners cracked movie codes and names in this exhilarating 'Connection' game
 . Keep the spirit alive and the fun rolling!
LOCATION:Online
DTSTAMP:20260420T090209Z
DTSTART:20240412T183000Z
DTEND:20260420T090209Z
END:VEVENT
END:VCALENDAR
