BEGIN:VCALENDAR
VERSION:2.0
PRODID:-//Eventin//Event Calendar//EN
CALSCALE:GREGORIAN
METHOD:PUBLISH
BEGIN:VEVENT
UID:f98d5af9772fadb8cad3fe4633b23149@saveetha.ac.in
SUMMARY:AUTOMATION GAMES WITH SCRATCH
DESCRIPTION:
LOCATION:Online
DTSTAMP:20260420T151230Z
DTSTART:20240327T183000Z
DTEND:20260420T151230Z
END:VEVENT
END:VCALENDAR
