BEGIN:VCALENDAR
VERSION:2.0
PRODID:-//Eventin//Event Calendar//EN
CALSCALE:GREGORIAN
METHOD:PUBLISH
BEGIN:VEVENT
UID:08de5620ee35f01068eecf040a136c35@saveetha.ac.in
SUMMARY:International opportunities for Higher Education
DESCRIPTION:
LOCATION:Online
DTSTAMP:20260420T091625Z
DTSTART:20240328T043000Z
DTEND:20260420T063000Z
END:VEVENT
END:VCALENDAR
