BEGIN:VCALENDAR
VERSION:2.0
PRODID:-//Eventin//Event Calendar//EN
CALSCALE:GREGORIAN
METHOD:PUBLISH
BEGIN:VEVENT
UID:a5f2dd84bfba38646ed9b4b0e279cdf2@saveetha.ac.in
SUMMARY:✨ Make Your Voice Count!
DESCRIPTION:🌟 Join the “Voting Awareness Pledge” at Saveetha Enginee
 ring College (Autonomous) and stand for a stronger\, progressive Tamil Nadu
 .🤝 Inspire change\, vote responsibly\, and empower democracy.\n📅 Apri
 l 22nd\, 2026 | ⏰ 1:00 – 3:00 PM | 📍 Lines Hall💫 Your Vote. Your 
 Power. Your Future.
LOCATION:Saveetha Engineering College
DTSTAMP:20260422T144016Z
DTSTART:20260422T170000Z
DTEND:20260422T190000Z
END:VEVENT
END:VCALENDAR
