BEGIN:VCALENDAR
VERSION:2.0
PRODID:-//Eventin//Event Calendar//EN
CALSCALE:GREGORIAN
METHOD:PUBLISH
BEGIN:VEVENT
UID:0974a53eeed3d360ad98eee743fcb933@saveetha.ac.in
SUMMARY:💫 Code the Future with "TechM CODE Challenge"!
DESCRIPTION:🎉 We are inviting the 2027 Batch to unlock your potential wi
 th TechM CODE - powered by Tech Mahindra\, a dynamic collaborative innovati
 on engine designed to propel learners toward success. 🚀💥 This excitin
 g 3-step competitive journey offers a chance to engage with real-world AI c
 hallenges and take your skills to the next level.🔥 Learners - Don’t mi
 ss the future of innovation!
LOCATION:Saveetha Engineering College
DTSTAMP:20260424T125346Z
DTSTART:20260424T120000Z
DTEND:20260424T203000Z
END:VEVENT
END:VCALENDAR
