BEGIN:VCALENDAR
VERSION:2.0
PRODID:-//Eventin//Event Calendar//EN
CALSCALE:GREGORIAN
METHOD:PUBLISH
BEGIN:VEVENT
UID:448e06277d28cffb4588d36e372835fa@saveetha.ac.in
SUMMARY:🎉 A proud moment for Saveetha Engineering College (Autonomous)!
DESCRIPTION:✨ We are delighted to be recognised as an “HCLTech Primus C
 ampus Partner” — a prestigious recognition that reinforces our commitme
 nt to shaping future-ready technology talent.🤝 This pioneering collabora
 tion with HCLTech is more than a partnership — it is a bridge between aca
 demia and industry\, designed to empower our learners to "Find Their Spark"
  and collectively "AMP-up" their careers:🚀 Accelerate skill development
 🌐 Mobilise learners into the workforce💫 Propel them toward lasting su
 ccessTogether with HCLTech\, we are building a future-ready workforce and r
 edefining what’s possible for our learners — equipping them with indust
 ry-aligned skills\, real-world exposure\, and career pathways that matter.
LOCATION:Saveetha Engineering College
DTSTAMP:20260424T125459Z
DTSTART:20260424T120000Z
DTEND:20260424T203000Z
END:VEVENT
END:VCALENDAR
