BEGIN:VCALENDAR
VERSION:2.0
PRODID:-//Eventin//Event Calendar//EN
CALSCALE:GREGORIAN
METHOD:PUBLISH
BEGIN:VEVENT
UID:5456a2f6a0d1acfd2ad8f3149a284929@saveetha.ac.in
SUMMARY:🏆 SEC WINS AT MUMBAI!
DESCRIPTION:🎉 We're thrilled to announce that “Team RTL ARCHITECTS” 
 from our Department of ECE has brought home the 2nd Runner-Up title at the 
 prestigious “ChipMonk Hackathon 2026” held in Mumbai!🌟 Our Winning T
 eam:🏅 Royce Niran George A — III Year ECE🏅 Ranjith Ganesh B — IV 
 Year ECE🏅 Angelin Jebisha C — II Year ECE🏅 Nithiyasri H — II Year
  ECE🌟 The Journey:From 200+ participants across India\, 27 teams made it
  to the finals\, and our team secured a spot on the podium — beating stif
 f competition and winning a ₹10\,000 cash prize.💫 The event was organi
 sed by Shah & Anchor Kutchhi Engineering College\, Mumbai\, and sponsored b
 y Monk9 Tech Pvt. Ltd.\, Rajkot\, Gujarat.🤝 A heartfelt congratulations 
 to our ECE team for their outstanding performance and for making the entire
  Saveetha family proud. 💙Keep innovating. Keep inspiring. 🚀
LOCATION:Saveetha Engineering College
DTSTAMP:20260424T125722Z
DTSTART:20260424T120000Z
DTEND:20260424T203000Z
END:VEVENT
END:VCALENDAR
