BEGIN:VCALENDAR
VERSION:2.0
PRODID:-//Eventin//Event Calendar//EN
CALSCALE:GREGORIAN
METHOD:PUBLISH
BEGIN:VEVENT
UID:b27a37d0c3ca8f0e75b003c4fc3aedb7@saveetha.ac.in
SUMMARY:🚀 Build Your Career with a Global Automotive Leader!
DESCRIPTION:🎉 Saveetha Engineering College (Autonomous) proudly welcomes
  " Valeo" for an exclusive MBA - Campus Hiring Drive for the 2026 Batch.
 🌟 "Valeo" is a global leader in automotive technology\, specialising in 
 smart mobility\, electrification\, and safety solutions\, with a strong pre
 sence in both global and Indian automotive markets.🤝 All the best to asp
 iring learners—your journey to career excellence begins here!
LOCATION:Saveetha Engineering College
DTSTAMP:20260425T104150Z
DTSTART:20260425T120000Z
DTEND:20260425T210000Z
END:VEVENT
END:VCALENDAR
