BEGIN:VCALENDAR
VERSION:2.0
PRODID:-//Eventin//Event Calendar//EN
CALSCALE:GREGORIAN
METHOD:PUBLISH
BEGIN:VEVENT
UID:b08e90284c771801ce38104f35535480@saveetha.ac.in
SUMMARY:🌍 A New Global Pathway For SEC Learners!
DESCRIPTION:📢 We are proud to share that Saveetha Engineering College (A
 utonomous) has signed a strategic MoU with PRODESX Info Pvt. Ltd. — a par
 tnership built to open the world to SEC’s budding engineers.🤝 Through 
 this collaboration\, PRODESX will facilitate international internship oppor
 tunities with “Unique Robotics\, a Dubai-based company”\, working at th
 e forefront of Robotics and Automation.🤖 Our learners will gain hands-on
  exposure to cutting-edge technology\, real-world engineering challenges\, 
 and the experience of thriving in a dynamic\, global workplace.✍️ This 
 is more than an agreement on paper. It is a promise that the SEC prepares l
 earners not only for today's industry but also for opportunities that exten
 d far beyond our campus.👍 A heartfelt thank you to the SEC management fo
 r their vision and unwavering support in making collaborations like this po
 ssible.
LOCATION:Saveetha Engineering College
DTSTAMP:20260425T110359Z
DTSTART:20260425T120000Z
DTEND:20260425T210000Z
END:VEVENT
END:VCALENDAR
