BEGIN:VCALENDAR
VERSION:2.0
PRODID:-//Eventin//Event Calendar//EN
CALSCALE:GREGORIAN
METHOD:PUBLISH
BEGIN:VEVENT
UID:f407e3916d6289c199bdb9fb3cf0846c@saveetha.ac.in
SUMMARY:✨ AI Ascend 2026 — Featured in Leading Tamilnadu Publications
DESCRIPTION:🌟 We are proud to share that the grand finale of AI Ascend 2
 026 — our state-wide hackathon powered by Kyndryl and Amazon Web Services
  (AWS) — has been featured across Tamil Nadu’s leading publications: Hi
 ndu Tamil\, Education Hub\, DT Next\, Dinakaran\, and The Covai Mail.💥 T
 his recognition reflects the scale and impact of an initiative designed to 
 advance AI and Cloud skills among India’s next generation of innovators.T
 he numbers tell the story:💫 2.19 lakh+ students registered💫 31\,267 s
 tudents completed AWS Educate courses💫 180+ finalists developed real AI-
 driven solutions💫 Next Goal: Certify 50\,000 students across Tamil Nadu 
 in emerging technologies🤝 A heartfelt gratitude to our Director Dr. S. R
 ajesh\, Principal Dr. V. Vijaya Chamundeeswari\, for their visionary leader
 ship\, and to our partners — Mr. Sankara Srinivasan\, Dr. Raj Mohan C\, V
 enkatesh Gnanasekaran (Kyndryl) and Pratibha Singh (AWS) — for believing 
 in this missio
LOCATION:Saveetha Engineering College
DTSTAMP:20260425T105046Z
DTSTART:20260425T120000Z
DTEND:20260425T210000Z
END:VEVENT
END:VCALENDAR
