BEGIN:VCALENDAR
VERSION:2.0
PRODID:-//Eventin//Event Calendar//EN
CALSCALE:GREGORIAN
METHOD:PUBLISH
BEGIN:VEVENT
UID:c906c8ba15b51fd0de4981846867d5b6@saveetha.ac.in
SUMMARY:🎉 A proud moment for Saveetha Engineering College!
DESCRIPTION:✨ We are thrilled to announce that our 3rd-year SCOFT Prime s
 tudents\, Swathi and Akshara (2027 Batch) \, have been selected for an Inte
 rnational Internship at Mitsubishi FUSO Truck and Bus Corporation\, Japan 
 — one of the world’s most respected names in commercial mobility and en
 gineering excellence.::💫 This opportunity reflects not only their hard w
 ork\, curiosity\, and discipline\, but also the global standards of learnin
 g and exposure that define our SCOFT Prime program.::🚀 From the classroo
 m to a global corporate boardroom in Japan — this is what we mean when we
  say we prepare learners for a world without borders.::🤝 We extend our h
 eartfelt congratulations to Swathi and Akshara\, and our sincere gratitude 
 to Mitsubishi FUSO for opening their doors to our future leaders.
LOCATION:Saveetha Engineering College
DTSTAMP:20260425T104654Z
DTSTART:20260425T120000Z
DTEND:20260425T210000Z
END:VEVENT
END:VCALENDAR
